BEGIN:VCALENDAR
VERSION:2.0
PRODID:-//Baxter College - ECPv6.2.8.1//NONSGML v1.0//EN
CALSCALE:GREGORIAN
METHOD:PUBLISH
X-WR-CALNAME:Baxter College
X-ORIGINAL-URL:https://baxtercollege.co.uk
X-WR-CALDESC:Events for Baxter College
REFRESH-INTERVAL;VALUE=DURATION:PT1H
X-Robots-Tag:noindex
X-PUBLISHED-TTL:PT1H
BEGIN:VTIMEZONE
TZID:Europe/London
BEGIN:DAYLIGHT
TZOFFSETFROM:+0000
TZOFFSETTO:+0100
TZNAME:BST
DTSTART:20190331T010000
END:DAYLIGHT
BEGIN:STANDARD
TZOFFSETFROM:+0100
TZOFFSETTO:+0000
TZNAME:GMT
DTSTART:20191027T010000
END:STANDARD
END:VTIMEZONE
BEGIN:VEVENT
DTSTART;TZID=Europe/London:20190627T163000
DTEND;TZID=Europe/London:20190627T190000
DTSTAMP:20260425T042556
CREATED:20190423T115532Z
LAST-MODIFIED:20190423T115532Z
UID:1205-1561653000-1561662000@baxtercollege.co.uk
SUMMARY:Year 7 Parent Evening
DESCRIPTION:
URL:https://baxtercollege.co.uk/event/half-term-2/
ATTACH;FMTTYPE=image/png:https://baxtercollege.co.uk/wp-content/uploads/sites/24/2019/05/Notices.png
END:VEVENT
END:VCALENDAR