BEGIN:VCALENDAR
VERSION:2.0
PRODID:-//Baxter College - ECPv6.2.8.1//NONSGML v1.0//EN
CALSCALE:GREGORIAN
METHOD:PUBLISH
X-WR-CALNAME:Baxter College
X-ORIGINAL-URL:https://baxtercollege.co.uk
X-WR-CALDESC:Events for Baxter College
REFRESH-INTERVAL;VALUE=DURATION:PT1H
X-Robots-Tag:noindex
X-PUBLISHED-TTL:PT1H
BEGIN:VTIMEZONE
TZID:Europe/London
BEGIN:DAYLIGHT
TZOFFSETFROM:+0000
TZOFFSETTO:+0100
TZNAME:BST
DTSTART:20240331T010000
END:DAYLIGHT
BEGIN:STANDARD
TZOFFSETFROM:+0100
TZOFFSETTO:+0000
TZNAME:GMT
DTSTART:20241027T010000
END:STANDARD
BEGIN:DAYLIGHT
TZOFFSETFROM:+0000
TZOFFSETTO:+0100
TZNAME:BST
DTSTART:20250330T010000
END:DAYLIGHT
BEGIN:STANDARD
TZOFFSETFROM:+0100
TZOFFSETTO:+0000
TZNAME:GMT
DTSTART:20251026T010000
END:STANDARD
END:VTIMEZONE
BEGIN:VEVENT
DTSTART;VALUE=DATE:20240326
DTEND;VALUE=DATE:20240406
DTSTAMP:20260422T233113
CREATED:20240207T122329Z
LAST-MODIFIED:20240207T122329Z
UID:4099-1711411200-1712361599@baxtercollege.co.uk
SUMMARY:Easter Holiday
DESCRIPTION:
URL:https://baxtercollege.co.uk/event/easter-holiday/
ATTACH;FMTTYPE=:
END:VEVENT
BEGIN:VEVENT
DTSTART;TZID=Europe/London:20240425T160000
DTEND;TZID=Europe/London:20240425T190000
DTSTAMP:20260422T233113
CREATED:20240301T091832Z
LAST-MODIFIED:20240301T091832Z
UID:4667-1714060800-1714071600@baxtercollege.co.uk
SUMMARY:Year 8 Parents' Evening
DESCRIPTION:Look out for an email soon with details on ow to book your Parents’ Evening appointments.
URL:https://baxtercollege.co.uk/event/year-8-parents-evening-2/
ATTACH;FMTTYPE=:
END:VEVENT
BEGIN:VEVENT
DTSTART;TZID=Europe/London:20240509T160000
DTEND;TZID=Europe/London:20240509T190000
DTSTAMP:20260422T233113
CREATED:20240301T093653Z
LAST-MODIFIED:20240301T093653Z
UID:4122-1715270400-1715281200@baxtercollege.co.uk
SUMMARY:Year 10 Parents' Evening
DESCRIPTION:Look out for an email with details on how to book your Parents’ Evening appointments.
URL:https://baxtercollege.co.uk/event/year-10-parents-evening-3/
ATTACH;FMTTYPE=:
END:VEVENT
BEGIN:VEVENT
DTSTART;VALUE=DATE:20240527
DTEND;VALUE=DATE:20240601
DTSTAMP:20260422T233113
CREATED:20240301T093512Z
LAST-MODIFIED:20240301T093512Z
UID:4668-1716768000-1717199999@baxtercollege.co.uk
SUMMARY:May Half Term
DESCRIPTION:
URL:https://baxtercollege.co.uk/event/may-half-term-3/
ATTACH;FMTTYPE=:
END:VEVENT
BEGIN:VEVENT
DTSTART;TZID=Europe/London:20241007T090000
DTEND;TZID=Europe/London:20241007T100000
DTSTAMP:20260422T233113
CREATED:20240930T095142Z
LAST-MODIFIED:20240930T095142Z
UID:4670-1728291600-1728295200@baxtercollege.co.uk
SUMMARY:SEND Step Ahead Parent Group
DESCRIPTION:
URL:https://baxtercollege.co.uk/event/send-step-ahead-parent-group/
ATTACH;FMTTYPE=:
END:VEVENT
BEGIN:VEVENT
DTSTART;TZID=Europe/London:20241014T090000
DTEND;TZID=Europe/London:20241014T100000
DTSTAMP:20260422T233113
CREATED:20240930T095432Z
LAST-MODIFIED:20240930T095432Z
UID:4671-1728896400-1728900000@baxtercollege.co.uk
SUMMARY:Supporting Good Attendance
DESCRIPTION:
URL:https://baxtercollege.co.uk/event/supporting-good-attendance/
ATTACH;FMTTYPE=:
END:VEVENT
BEGIN:VEVENT
DTSTART;TZID=Europe/London:20241021T090000
DTEND;TZID=Europe/London:20241021T100000
DTSTAMP:20260422T233113
CREATED:20240930T095510Z
LAST-MODIFIED:20240930T095510Z
UID:4672-1729501200-1729504800@baxtercollege.co.uk
SUMMARY:Supporting Independent Learning and Retrieval Practice at Home
DESCRIPTION:
URL:https://baxtercollege.co.uk/event/supporting-independent-learning-and-retrieval-practice-at-home/
ATTACH;FMTTYPE=:
END:VEVENT
BEGIN:VEVENT
DTSTART;TZID=Europe/London:20241111T090000
DTEND;TZID=Europe/London:20241111T100000
DTSTAMP:20260422T233113
CREATED:20240930T095545Z
LAST-MODIFIED:20240930T095545Z
UID:4673-1731315600-1731319200@baxtercollege.co.uk
SUMMARY:Supporting Good Behaviour in School
DESCRIPTION:
URL:https://baxtercollege.co.uk/event/supporting-good-behaviour-in-school/
ATTACH;FMTTYPE=:
END:VEVENT
BEGIN:VEVENT
DTSTART;TZID=Europe/London:20241112T170000
DTEND;TZID=Europe/London:20241112T180000
DTSTAMP:20260422T233113
CREATED:20241108T083817Z
LAST-MODIFIED:20241108T083817Z
UID:4681-1731430800-1731434400@baxtercollege.co.uk
SUMMARY:Parent Forum Meetings
DESCRIPTION:All parents are welcome to attend.  Please contact chaile@shs.saet.co.uk to confirm your attendance for each meeting.
URL:https://baxtercollege.co.uk/event/parent-forum-meetings/
ATTACH;FMTTYPE=:
END:VEVENT
BEGIN:VEVENT
DTSTART;TZID=Europe/London:20241118T090000
DTEND;TZID=Europe/London:20241118T100000
DTSTAMP:20260422T233113
CREATED:20240930T095617Z
LAST-MODIFIED:20240930T095617Z
UID:4674-1731920400-1731924000@baxtercollege.co.uk
SUMMARY:Preparation for Adulthood Careers advice for KS4 EHCP Parents
DESCRIPTION:
URL:https://baxtercollege.co.uk/event/preparation-for-adulthood-careers-advice-for-ks4-ehcp-parents/
ATTACH;FMTTYPE=:
END:VEVENT
BEGIN:VEVENT
DTSTART;TZID=Europe/London:20241125T090000
DTEND;TZID=Europe/London:20241125T100000
DTSTAMP:20260422T233113
CREATED:20240930T095646Z
LAST-MODIFIED:20240930T095646Z
UID:4675-1732525200-1732528800@baxtercollege.co.uk
SUMMARY:Supporting Year 11 Revision
DESCRIPTION:
URL:https://baxtercollege.co.uk/event/supporting-year-11-revision/
ATTACH;FMTTYPE=:
END:VEVENT
BEGIN:VEVENT
DTSTART;TZID=Europe/London:20241202T090000
DTEND;TZID=Europe/London:20241202T100000
DTSTAMP:20260422T233113
CREATED:20240930T095713Z
LAST-MODIFIED:20240930T095713Z
UID:4676-1733130000-1733133600@baxtercollege.co.uk
SUMMARY:Supporting Good Behaviour in School
DESCRIPTION:
URL:https://baxtercollege.co.uk/event/supporting-good-behaviour-in-school-2/
ATTACH;FMTTYPE=:
END:VEVENT
BEGIN:VEVENT
DTSTART;TZID=Europe/London:20241203T170000
DTEND;TZID=Europe/London:20241203T180000
DTSTAMP:20260422T233113
CREATED:20241108T083932Z
LAST-MODIFIED:20241108T083932Z
UID:4682-1733245200-1733248800@baxtercollege.co.uk
SUMMARY:Parent Forum Meetings
DESCRIPTION:All parents are welcome to attend.  Please contact chaile@shs.saet.co.uk to confirm your attendance for each meeting.
URL:https://baxtercollege.co.uk/event/parent-forum-meetings-2/
ATTACH;FMTTYPE=:
END:VEVENT
BEGIN:VEVENT
DTSTART;TZID=Europe/London:20241209T090000
DTEND;TZID=Europe/London:20241209T100000
DTSTAMP:20260422T233113
CREATED:20240930T095739Z
LAST-MODIFIED:20240930T095739Z
UID:4677-1733734800-1733738400@baxtercollege.co.uk
SUMMARY:Supporting Students with Autism in School
DESCRIPTION:
URL:https://baxtercollege.co.uk/event/supporting-students-with-autism-in-school/
ATTACH;FMTTYPE=:
END:VEVENT
BEGIN:VEVENT
DTSTART;TZID=Europe/London:20241218T180000
DTEND;TZID=Europe/London:20241218T210000
DTSTAMP:20260422T233113
CREATED:20241205T123514Z
LAST-MODIFIED:20241205T123514Z
UID:4687-1734544800-1734555600@baxtercollege.co.uk
SUMMARY:SHS Christmas Showcase - Wednesday 18 December @ 6pm
DESCRIPTION:
URL:https://baxtercollege.co.uk/event/shs-christmas-showcase-wednesday-18-december-6pm/
ATTACH;FMTTYPE=image/png:https://baxtercollege.co.uk/wp-content/uploads/sites/24/2025/01/MPP_903235-copy.png
END:VEVENT
BEGIN:VEVENT
DTSTART;TZID=Europe/London:20250114T170000
DTEND;TZID=Europe/London:20250114T180000
DTSTAMP:20260422T233113
CREATED:20241108T084020Z
LAST-MODIFIED:20241108T084020Z
UID:4683-1736874000-1736877600@baxtercollege.co.uk
SUMMARY:Parent Forum Meetings
DESCRIPTION:All parents are welcome to attend.  Please contact chaile@shs.saet.co.uk to confirm your attendance for each meeting.
URL:https://baxtercollege.co.uk/event/parent-forum-meetings-3/
ATTACH;FMTTYPE=:
END:VEVENT
BEGIN:VEVENT
DTSTART;TZID=Europe/London:20250122T180000
DTEND;TZID=Europe/London:20250122T190000
DTSTAMP:20260422T233113
CREATED:20241004T115631Z
LAST-MODIFIED:20241004T115631Z
UID:4678-1737568800-1737572400@baxtercollege.co.uk
SUMMARY:Paris - Parent Information Evenings
DESCRIPTION:
URL:https://baxtercollege.co.uk/event/paris-parent-information-evenings/
ATTACH;FMTTYPE=:
END:VEVENT
BEGIN:VEVENT
DTSTART;TZID=Europe/London:20250305T180000
DTEND;TZID=Europe/London:20250305T190000
DTSTAMP:20260422T233113
CREATED:20241004T115717Z
LAST-MODIFIED:20250205T143629Z
UID:4679-1741197600-1741201200@baxtercollege.co.uk
SUMMARY:Madrid - Parent Information Evenings
DESCRIPTION:
URL:https://baxtercollege.co.uk/event/madrid-parent-information-evenings/
ATTACH;FMTTYPE=image/png:https://baxtercollege.co.uk/wp-content/uploads/sites/24/2024/10/Madrid-1.png
END:VEVENT
BEGIN:VEVENT
DTSTART;TZID=Europe/London:20250311T170000
DTEND;TZID=Europe/London:20250311T180000
DTSTAMP:20260422T233113
CREATED:20241108T084152Z
LAST-MODIFIED:20250205T144158Z
UID:4684-1741712400-1741716000@baxtercollege.co.uk
SUMMARY:Parent Forum Meetings
DESCRIPTION:All parents are welcome to attend.  Please contact chaile@shs.saet.co.uk to confirm your attendance for each meeting.
URL:https://baxtercollege.co.uk/event/parent-forum-meetings-4/
ATTACH;FMTTYPE=image/png:https://baxtercollege.co.uk/wp-content/uploads/sites/24/2024/11/Untitled-design-10-1.png
END:VEVENT
BEGIN:VEVENT
DTSTART;TZID=Europe/London:20250312T180000
DTEND;TZID=Europe/London:20250312T190000
DTSTAMP:20260422T233113
CREATED:20241004T115754Z
LAST-MODIFIED:20250205T144237Z
UID:4680-1741802400-1741806000@baxtercollege.co.uk
SUMMARY:Barcelona - Parent Information Evenings
DESCRIPTION:
URL:https://baxtercollege.co.uk/event/barcelona-parent-information-evenings/
ATTACH;FMTTYPE=image/png:https://baxtercollege.co.uk/wp-content/uploads/sites/24/2024/11/Barcelona-1.png
END:VEVENT
BEGIN:VEVENT
DTSTART;TZID=Europe/London:20250513T170000
DTEND;TZID=Europe/London:20250513T180000
DTSTAMP:20260422T233113
CREATED:20241108T084243Z
LAST-MODIFIED:20241108T084243Z
UID:4685-1747155600-1747159200@baxtercollege.co.uk
SUMMARY:Parent Forum Meetings
DESCRIPTION:All parents are welcome to attend.  Please contact chaile@shs.saet.co.uk to confirm your attendance for each meeting.
URL:https://baxtercollege.co.uk/event/parent-forum-meetings-5/
ATTACH;FMTTYPE=image/png:https://baxtercollege.co.uk/wp-content/uploads/sites/24/2024/11/Untitled-design-10-1.png
END:VEVENT
BEGIN:VEVENT
DTSTART;TZID=Europe/London:20250624T170000
DTEND;TZID=Europe/London:20250624T180000
DTSTAMP:20260422T233113
CREATED:20241108T084328Z
LAST-MODIFIED:20250205T144431Z
UID:4686-1750784400-1750788000@baxtercollege.co.uk
SUMMARY:Parent Forum Meetings
DESCRIPTION:All parents are welcome to attend.  Please contact chaile@shs.saet.co.uk to confirm your attendance for each meeting.
URL:https://baxtercollege.co.uk/event/parent-forum-meetings-6/
ATTACH;FMTTYPE=image/png:https://baxtercollege.co.uk/wp-content/uploads/sites/24/2024/11/Untitled-design-10-1.png
END:VEVENT
END:VCALENDAR