BEGIN:VCALENDAR
VERSION:2.0
PRODID:-//Baxter College - ECPv6.2.8.1//NONSGML v1.0//EN
CALSCALE:GREGORIAN
METHOD:PUBLISH
X-WR-CALNAME:Baxter College
X-ORIGINAL-URL:https://baxtercollege.co.uk
X-WR-CALDESC:Events for Baxter College
REFRESH-INTERVAL;VALUE=DURATION:PT1H
X-Robots-Tag:noindex
X-PUBLISHED-TTL:PT1H
BEGIN:VTIMEZONE
TZID:Europe/London
BEGIN:DAYLIGHT
TZOFFSETFROM:+0000
TZOFFSETTO:+0100
TZNAME:BST
DTSTART:20250330T010000
END:DAYLIGHT
BEGIN:STANDARD
TZOFFSETFROM:+0100
TZOFFSETTO:+0000
TZNAME:GMT
DTSTART:20251026T010000
END:STANDARD
END:VTIMEZONE
BEGIN:VEVENT
DTSTART;TZID=Europe/London:20250311T170000
DTEND;TZID=Europe/London:20250311T180000
DTSTAMP:20260423T080933
CREATED:20241108T084152Z
LAST-MODIFIED:20250205T144158Z
UID:4684-1741712400-1741716000@baxtercollege.co.uk
SUMMARY:Parent Forum Meetings
DESCRIPTION:All parents are welcome to attend.  Please contact chaile@shs.saet.co.uk to confirm your attendance for each meeting.
URL:https://baxtercollege.co.uk/event/parent-forum-meetings-4/
ATTACH;FMTTYPE=image/png:https://baxtercollege.co.uk/wp-content/uploads/sites/24/2024/11/Untitled-design-10-1.png
END:VEVENT
BEGIN:VEVENT
DTSTART;TZID=Europe/London:20250312T180000
DTEND;TZID=Europe/London:20250312T190000
DTSTAMP:20260423T080933
CREATED:20241004T115754Z
LAST-MODIFIED:20250205T144237Z
UID:4680-1741802400-1741806000@baxtercollege.co.uk
SUMMARY:Barcelona - Parent Information Evenings
DESCRIPTION:
URL:https://baxtercollege.co.uk/event/barcelona-parent-information-evenings/
ATTACH;FMTTYPE=image/png:https://baxtercollege.co.uk/wp-content/uploads/sites/24/2024/11/Barcelona-1.png
END:VEVENT
BEGIN:VEVENT
DTSTART;TZID=Europe/London:20250513T170000
DTEND;TZID=Europe/London:20250513T180000
DTSTAMP:20260423T080933
CREATED:20241108T084243Z
LAST-MODIFIED:20241108T084243Z
UID:4685-1747155600-1747159200@baxtercollege.co.uk
SUMMARY:Parent Forum Meetings
DESCRIPTION:All parents are welcome to attend.  Please contact chaile@shs.saet.co.uk to confirm your attendance for each meeting.
URL:https://baxtercollege.co.uk/event/parent-forum-meetings-5/
ATTACH;FMTTYPE=image/png:https://baxtercollege.co.uk/wp-content/uploads/sites/24/2024/11/Untitled-design-10-1.png
END:VEVENT
BEGIN:VEVENT
DTSTART;TZID=Europe/London:20250624T170000
DTEND;TZID=Europe/London:20250624T180000
DTSTAMP:20260423T080933
CREATED:20241108T084328Z
LAST-MODIFIED:20250205T144431Z
UID:4686-1750784400-1750788000@baxtercollege.co.uk
SUMMARY:Parent Forum Meetings
DESCRIPTION:All parents are welcome to attend.  Please contact chaile@shs.saet.co.uk to confirm your attendance for each meeting.
URL:https://baxtercollege.co.uk/event/parent-forum-meetings-6/
ATTACH;FMTTYPE=image/png:https://baxtercollege.co.uk/wp-content/uploads/sites/24/2024/11/Untitled-design-10-1.png
END:VEVENT
END:VCALENDAR